BEGIN:VCALENDAR
VERSION:2.0
PRODID:-//Vincent THIÉBAUT - ECPv6.15.20//NONSGML v1.0//EN
CALSCALE:GREGORIAN
METHOD:PUBLISH
X-ORIGINAL-URL:https://vincentthiebaut.fr
X-WR-CALDESC:Évènements pour Vincent THIÉBAUT
REFRESH-INTERVAL;VALUE=DURATION:PT1H
X-Robots-Tag:noindex
X-PUBLISHED-TTL:PT1H
BEGIN:VTIMEZONE
TZID:UTC
BEGIN:STANDARD
TZOFFSETFROM:+0000
TZOFFSETTO:+0000
TZNAME:UTC
DTSTART:20210101T000000
END:STANDARD
END:VTIMEZONE
BEGIN:VTIMEZONE
TZID:Europe/Paris
BEGIN:DAYLIGHT
TZOFFSETFROM:+0100
TZOFFSETTO:+0200
TZNAME:CEST
DTSTART:20200329T010000
END:DAYLIGHT
BEGIN:STANDARD
TZOFFSETFROM:+0200
TZOFFSETTO:+0100
TZNAME:CET
DTSTART:20201025T010000
END:STANDARD
BEGIN:DAYLIGHT
TZOFFSETFROM:+0100
TZOFFSETTO:+0200
TZNAME:CEST
DTSTART:20210328T010000
END:DAYLIGHT
BEGIN:STANDARD
TZOFFSETFROM:+0200
TZOFFSETTO:+0100
TZNAME:CET
DTSTART:20211031T010000
END:STANDARD
BEGIN:DAYLIGHT
TZOFFSETFROM:+0100
TZOFFSETTO:+0200
TZNAME:CEST
DTSTART:20220327T010000
END:DAYLIGHT
BEGIN:STANDARD
TZOFFSETFROM:+0200
TZOFFSETTO:+0100
TZNAME:CET
DTSTART:20221030T010000
END:STANDARD
BEGIN:DAYLIGHT
TZOFFSETFROM:+0100
TZOFFSETTO:+0200
TZNAME:CEST
DTSTART:20230326T010000
END:DAYLIGHT
BEGIN:STANDARD
TZOFFSETFROM:+0200
TZOFFSETTO:+0100
TZNAME:CET
DTSTART:20231029T010000
END:STANDARD
END:VTIMEZONE
BEGIN:VEVENT
DTSTART;TZID=UTC:20220414T090000
DTEND;TZID=UTC:20220414T100000
DTSTAMP:20260420T143639
CREATED:20220331T120802Z
LAST-MODIFIED:20220331T121349Z
UID:9808-1649926800-1649930400@vincentthiebaut.fr
SUMMARY:Permanence à BISCHWILLER
DESCRIPTION:Permanence à BISCHWILLER\nen présence de votre député ou de son équipe qui aura lieu à la Mairie de Bischwiller\n \nS’INSCRIRE À CETTE PERMANENCE×Formulaire d'inscription à la permanence \n\n\n\n\n\n\nOrder Number\nPermanences de Vincent Thiébaut Député du bas-Rhin\nJe souhaite rencontrer le député ou son équipe\nVos coordonnées seront supprimées\, après avoir choisi la permanence de votre choix. \n\n\n	Prénom *\n	\n					\n\n\n	Nom de famille *\n	\n					\n\n\n	Adresse de messagerie *\n	\n					\n\n\n	Votre statut *\n	\n		\n		\n					\n						Citoyen					\n										\n						Entreprise					\n										\n						Artisan					\n										\n						Association					\n										\n						Élu					\n										\n						Autre					\n							\n		Merci de choisir dans le menu déroulant\n	\n\n\n	Numéro de téléphone\n	\n				numéro où vous joindre / non obligatoire\n	\n\n\n	Commune où a lieu la permanence *\n	\n				Merci de préciser\n	\n\n\n\n	date de la permanence *\n	\n		\n		Merci de préciser la date dans le calendrier\n	\n\n\nJe souhaite également m'inscire à la Newsletter du député *\n\n					\n				\n			OUI		\n					\n									\n				\n			NON		\n					\n				Merci de cocher la case et de lire les conditions ci dessous\n\n\nAUTORISATIONS\n \nle député Vincent THIÉBAUT utilisera les informations fournies sur ce formulaire pour vous contacter.  \nVous pouvez changer d'avis à tout moment en cliquant sur le lien Se désinscrire situé sur le pied de page de tout e-mail que vous recevez de notre part\, ou en nous contactant à contact@vincentthiebaut.fr. Nous traiterons vos informations avec respect. Pour plus d'informations sur nos pratiques de confidentialité\, veuillez visiter notre site Web. En cliquant sur "envoyer le message"\, vous acceptez que nous puissions traiter vos informations conformément à ces termes. \nNous utilisons MailJet comme plateforme de Newsletter. En cliquant ci-dessous pour vous abonner\, vous reconnaissez que vos informations seront transférées et traitées par MailJet. Pour en savoir plus sur les pratiques de confidentialité de MailJet\, rendez-vous ICI . \n\n\n	\n\n\n	\n\n\n\nFermer
URL:https://vincentthiebaut.fr/rencontres/permanence-a-bischwiller-3/
LOCATION:Mairie de BISCHWILLER\, 9 place de la Mairie\, Bischwiller\, 67046\, France
CATEGORIES:Permanence BISCHWILLER,Permanences 9eme Circonscription
ATTACH;FMTTYPE=image/jpeg:https://vincentthiebaut.fr/wp-content/uploads/2021/05/Permanence-Bischwiller-1.jpg
END:VEVENT
BEGIN:VEVENT
DTSTART;TZID=Europe/Paris:20220304T090000
DTEND;TZID=Europe/Paris:20220304T100000
DTSTAMP:20260420T143639
CREATED:20210809T143240Z
LAST-MODIFIED:20210809T143240Z
UID:7948-1646384400-1646388000@vincentthiebaut.fr
SUMMARY:Permanence de BISCHWILLER
DESCRIPTION:Permanence à BISCHWILLER\nen présence de votre député ou de son équipe qui aura lieu à la Mairie de Bischwiller\n \nS’INSCRIRE À CETTE PERMANENCE×Formulaire d'inscription à la permanence \n\n\n\n\n\n\nPhone\nPermanences de Vincent Thiébaut Député du bas-Rhin\nJe souhaite rencontrer le député ou son équipe\nVos coordonnées seront supprimées\, après avoir choisi la permanence de votre choix. \n\n\n	Prénom *\n	\n					\n\n\n	Nom de famille *\n	\n					\n\n\n	Adresse de messagerie *\n	\n					\n\n\n	Votre statut *\n	\n		\n		\n					\n						Citoyen					\n										\n						Entreprise					\n										\n						Artisan					\n										\n						Association					\n										\n						Élu					\n										\n						Autre					\n							\n		Merci de choisir dans le menu déroulant\n	\n\n\n	Numéro de téléphone\n	\n				numéro où vous joindre / non obligatoire\n	\n\n\n	Commune où a lieu la permanence *\n	\n				Merci de préciser\n	\n\n\n\n	date de la permanence *\n	\n		\n		Merci de préciser la date dans le calendrier\n	\n\n\nJe souhaite également m'inscire à la Newsletter du député *\n\n					\n				\n			OUI		\n					\n									\n				\n			NON		\n					\n				Merci de cocher la case et de lire les conditions ci dessous\n\n\nAUTORISATIONS\n \nle député Vincent THIÉBAUT utilisera les informations fournies sur ce formulaire pour vous contacter.  \nVous pouvez changer d'avis à tout moment en cliquant sur le lien Se désinscrire situé sur le pied de page de tout e-mail que vous recevez de notre part\, ou en nous contactant à contact@vincentthiebaut.fr. Nous traiterons vos informations avec respect. Pour plus d'informations sur nos pratiques de confidentialité\, veuillez visiter notre site Web. En cliquant sur "envoyer le message"\, vous acceptez que nous puissions traiter vos informations conformément à ces termes. \nNous utilisons MailJet comme plateforme de Newsletter. En cliquant ci-dessous pour vous abonner\, vous reconnaissez que vos informations seront transférées et traitées par MailJet. Pour en savoir plus sur les pratiques de confidentialité de MailJet\, rendez-vous ICI . \n\n\n	\n\n\n	\n\n\n\nFermer
URL:https://vincentthiebaut.fr/rencontres/permanence-de-bischwiller-7/
LOCATION:Mairie de BISCHWILLER\, 9 place de la Mairie\, Bischwiller\, 67046\, France
CATEGORIES:Permanence BISCHWILLER,Permanences 9eme Circonscription
ATTACH;FMTTYPE=image/jpeg:https://vincentthiebaut.fr/wp-content/uploads/2021/05/Permanence-Bischwiller-1.jpg
END:VEVENT
BEGIN:VEVENT
DTSTART;TZID=Europe/Paris:20220204T090000
DTEND;TZID=Europe/Paris:20220204T100000
DTSTAMP:20260420T143639
CREATED:20210809T143133Z
LAST-MODIFIED:20210809T143133Z
UID:7946-1643965200-1643968800@vincentthiebaut.fr
SUMMARY:Permanence de BISCHWILLER
DESCRIPTION:Permanence à BISCHWILLER\nen présence de votre député ou de son équipe qui aura lieu à la Mairie de Bischwiller\n \nS’INSCRIRE À CETTE PERMANENCE×Formulaire d'inscription à la permanence \n\n\n\n\n\n\nUrl\nPermanences de Vincent Thiébaut Député du bas-Rhin\nJe souhaite rencontrer le député ou son équipe\nVos coordonnées seront supprimées\, après avoir choisi la permanence de votre choix. \n\n\n	Prénom *\n	\n					\n\n\n	Nom de famille *\n	\n					\n\n\n	Adresse de messagerie *\n	\n					\n\n\n	Votre statut *\n	\n		\n		\n					\n						Citoyen					\n										\n						Entreprise					\n										\n						Artisan					\n										\n						Association					\n										\n						Élu					\n										\n						Autre					\n							\n		Merci de choisir dans le menu déroulant\n	\n\n\n	Numéro de téléphone\n	\n				numéro où vous joindre / non obligatoire\n	\n\n\n	Commune où a lieu la permanence *\n	\n				Merci de préciser\n	\n\n\n\n	date de la permanence *\n	\n		\n		Merci de préciser la date dans le calendrier\n	\n\n\nJe souhaite également m'inscire à la Newsletter du député *\n\n					\n				\n			OUI		\n					\n									\n				\n			NON		\n					\n				Merci de cocher la case et de lire les conditions ci dessous\n\n\nAUTORISATIONS\n \nle député Vincent THIÉBAUT utilisera les informations fournies sur ce formulaire pour vous contacter.  \nVous pouvez changer d'avis à tout moment en cliquant sur le lien Se désinscrire situé sur le pied de page de tout e-mail que vous recevez de notre part\, ou en nous contactant à contact@vincentthiebaut.fr. Nous traiterons vos informations avec respect. Pour plus d'informations sur nos pratiques de confidentialité\, veuillez visiter notre site Web. En cliquant sur "envoyer le message"\, vous acceptez que nous puissions traiter vos informations conformément à ces termes. \nNous utilisons MailJet comme plateforme de Newsletter. En cliquant ci-dessous pour vous abonner\, vous reconnaissez que vos informations seront transférées et traitées par MailJet. Pour en savoir plus sur les pratiques de confidentialité de MailJet\, rendez-vous ICI . \n\n\n	\n\n\n	\n\n\n\nFermer
URL:https://vincentthiebaut.fr/rencontres/permanence-de-bischwiller-6/
LOCATION:Mairie de BISCHWILLER\, 9 place de la Mairie\, Bischwiller\, 67046\, France
CATEGORIES:Permanence BISCHWILLER,Permanences 9eme Circonscription
ATTACH;FMTTYPE=image/jpeg:https://vincentthiebaut.fr/wp-content/uploads/2021/05/Permanence-Bischwiller-1.jpg
END:VEVENT
BEGIN:VEVENT
DTSTART;TZID=Europe/Paris:20220107T090000
DTEND;TZID=Europe/Paris:20220107T100000
DTSTAMP:20260420T143639
CREATED:20210809T143023Z
LAST-MODIFIED:20210809T143023Z
UID:7943-1641546000-1641549600@vincentthiebaut.fr
SUMMARY:Permanence de BISCHWILLER
DESCRIPTION:  \nPermanence à BISCHWILLER\nen présence de votre député ou de son équipe qui aura lieu à la Mairie de Bischwiller\n \nS’INSCRIRE À CETTE PERMANENCE×Formulaire d'inscription à la permanence \n\n\n\n\n\n\nE-mail\nPermanences de Vincent Thiébaut Député du bas-Rhin\nJe souhaite rencontrer le député ou son équipe\nVos coordonnées seront supprimées\, après avoir choisi la permanence de votre choix. \n\n\n	Prénom *\n	\n					\n\n\n	Nom de famille *\n	\n					\n\n\n	Adresse de messagerie *\n	\n					\n\n\n	Votre statut *\n	\n		\n		\n					\n						Citoyen					\n										\n						Entreprise					\n										\n						Artisan					\n										\n						Association					\n										\n						Élu					\n										\n						Autre					\n							\n		Merci de choisir dans le menu déroulant\n	\n\n\n	Numéro de téléphone\n	\n				numéro où vous joindre / non obligatoire\n	\n\n\n	Commune où a lieu la permanence *\n	\n				Merci de préciser\n	\n\n\n\n	date de la permanence *\n	\n		\n		Merci de préciser la date dans le calendrier\n	\n\n\nJe souhaite également m'inscire à la Newsletter du député *\n\n					\n				\n			OUI		\n					\n									\n				\n			NON		\n					\n				Merci de cocher la case et de lire les conditions ci dessous\n\n\nAUTORISATIONS\n \nle député Vincent THIÉBAUT utilisera les informations fournies sur ce formulaire pour vous contacter.  \nVous pouvez changer d'avis à tout moment en cliquant sur le lien Se désinscrire situé sur le pied de page de tout e-mail que vous recevez de notre part\, ou en nous contactant à contact@vincentthiebaut.fr. Nous traiterons vos informations avec respect. Pour plus d'informations sur nos pratiques de confidentialité\, veuillez visiter notre site Web. En cliquant sur "envoyer le message"\, vous acceptez que nous puissions traiter vos informations conformément à ces termes. \nNous utilisons MailJet comme plateforme de Newsletter. En cliquant ci-dessous pour vous abonner\, vous reconnaissez que vos informations seront transférées et traitées par MailJet. Pour en savoir plus sur les pratiques de confidentialité de MailJet\, rendez-vous ICI . \n\n\n	\n\n\n	\n\n\n\nFermer
URL:https://vincentthiebaut.fr/rencontres/permanence-de-bischwiller-5/
LOCATION:Mairie de BISCHWILLER\, 9 place de la Mairie\, Bischwiller\, 67046\, France
CATEGORIES:Permanence BISCHWILLER,Permanences 9eme Circonscription
ATTACH;FMTTYPE=image/jpeg:https://vincentthiebaut.fr/wp-content/uploads/2021/05/Permanence-Bischwiller-1.jpg
END:VEVENT
BEGIN:VEVENT
DTSTART;TZID=Europe/Paris:20211203T090000
DTEND;TZID=Europe/Paris:20211203T100000
DTSTAMP:20260420T143639
CREATED:20210809T142854Z
LAST-MODIFIED:20210810T072405Z
UID:7941-1638522000-1638525600@vincentthiebaut.fr
SUMMARY:Permanence à BISCHWILLER
DESCRIPTION:Permanence à BISCHWILLER\nen présence de votre député ou de son équipe qui aura lieu à la Mairie de Bischwiller\n \nS’INSCRIRE À CETTE PERMANENCE×Formulaire d'inscription à la permanence \n\n\n\n\n\n\nWeb Site\nPermanences de Vincent Thiébaut Député du bas-Rhin\nJe souhaite rencontrer le député ou son équipe\nVos coordonnées seront supprimées\, après avoir choisi la permanence de votre choix. \n\n\n	Prénom *\n	\n					\n\n\n	Nom de famille *\n	\n					\n\n\n	Adresse de messagerie *\n	\n					\n\n\n	Votre statut *\n	\n		\n		\n					\n						Citoyen					\n										\n						Entreprise					\n										\n						Artisan					\n										\n						Association					\n										\n						Élu					\n										\n						Autre					\n							\n		Merci de choisir dans le menu déroulant\n	\n\n\n	Numéro de téléphone\n	\n				numéro où vous joindre / non obligatoire\n	\n\n\n	Commune où a lieu la permanence *\n	\n				Merci de préciser\n	\n\n\n\n	date de la permanence *\n	\n		\n		Merci de préciser la date dans le calendrier\n	\n\n\nJe souhaite également m'inscire à la Newsletter du député *\n\n					\n				\n			OUI		\n					\n									\n				\n			NON		\n					\n				Merci de cocher la case et de lire les conditions ci dessous\n\n\nAUTORISATIONS\n \nle député Vincent THIÉBAUT utilisera les informations fournies sur ce formulaire pour vous contacter.  \nVous pouvez changer d'avis à tout moment en cliquant sur le lien Se désinscrire situé sur le pied de page de tout e-mail que vous recevez de notre part\, ou en nous contactant à contact@vincentthiebaut.fr. Nous traiterons vos informations avec respect. Pour plus d'informations sur nos pratiques de confidentialité\, veuillez visiter notre site Web. En cliquant sur "envoyer le message"\, vous acceptez que nous puissions traiter vos informations conformément à ces termes. \nNous utilisons MailJet comme plateforme de Newsletter. En cliquant ci-dessous pour vous abonner\, vous reconnaissez que vos informations seront transférées et traitées par MailJet. Pour en savoir plus sur les pratiques de confidentialité de MailJet\, rendez-vous ICI . \n\n\n	\n\n\n	\n\n\n\nFermer
URL:https://vincentthiebaut.fr/rencontres/permanence-a-bischwiller-4/
LOCATION:Mairie de BISCHWILLER\, 9 place de la Mairie\, Bischwiller\, 67046\, France
CATEGORIES:Permanence BISCHWILLER,Permanences 9eme Circonscription
ATTACH;FMTTYPE=image/jpeg:https://vincentthiebaut.fr/wp-content/uploads/2021/05/Permanence-Bischwiller-1.jpg
END:VEVENT
BEGIN:VEVENT
DTSTART;TZID=Europe/Paris:20211105T090000
DTEND;TZID=Europe/Paris:20211105T100000
DTSTAMP:20260420T143639
CREATED:20210809T142545Z
LAST-MODIFIED:20210809T142545Z
UID:7939-1636102800-1636106400@vincentthiebaut.fr
SUMMARY:Permanence de BISCHWILLER
DESCRIPTION:Permanence à BISCHWILLER\nen présence de votre député ou de son équipe qui aura lieu à la Mairie de Bischwiller\n \nS’INSCRIRE À CETTE PERMANENCE×Formulaire d'inscription à la permanence \n\n\n\n\n\n\nE-mail\nPermanences de Vincent Thiébaut Député du bas-Rhin\nJe souhaite rencontrer le député ou son équipe\nVos coordonnées seront supprimées\, après avoir choisi la permanence de votre choix. \n\n\n	Prénom *\n	\n					\n\n\n	Nom de famille *\n	\n					\n\n\n	Adresse de messagerie *\n	\n					\n\n\n	Votre statut *\n	\n		\n		\n					\n						Citoyen					\n										\n						Entreprise					\n										\n						Artisan					\n										\n						Association					\n										\n						Élu					\n										\n						Autre					\n							\n		Merci de choisir dans le menu déroulant\n	\n\n\n	Numéro de téléphone\n	\n				numéro où vous joindre / non obligatoire\n	\n\n\n	Commune où a lieu la permanence *\n	\n				Merci de préciser\n	\n\n\n\n	date de la permanence *\n	\n		\n		Merci de préciser la date dans le calendrier\n	\n\n\nJe souhaite également m'inscire à la Newsletter du député *\n\n					\n				\n			OUI		\n					\n									\n				\n			NON		\n					\n				Merci de cocher la case et de lire les conditions ci dessous\n\n\nAUTORISATIONS\n \nle député Vincent THIÉBAUT utilisera les informations fournies sur ce formulaire pour vous contacter.  \nVous pouvez changer d'avis à tout moment en cliquant sur le lien Se désinscrire situé sur le pied de page de tout e-mail que vous recevez de notre part\, ou en nous contactant à contact@vincentthiebaut.fr. Nous traiterons vos informations avec respect. Pour plus d'informations sur nos pratiques de confidentialité\, veuillez visiter notre site Web. En cliquant sur "envoyer le message"\, vous acceptez que nous puissions traiter vos informations conformément à ces termes. \nNous utilisons MailJet comme plateforme de Newsletter. En cliquant ci-dessous pour vous abonner\, vous reconnaissez que vos informations seront transférées et traitées par MailJet. Pour en savoir plus sur les pratiques de confidentialité de MailJet\, rendez-vous ICI . \n\n\n	\n\n\n	\n\n\n\nFermer
URL:https://vincentthiebaut.fr/rencontres/permanence-de-bischwiller-3/
LOCATION:Mairie de BISCHWILLER\, 9 place de la Mairie\, Bischwiller\, 67046\, France
CATEGORIES:Permanence BISCHWILLER,Permanences 9eme Circonscription
ATTACH;FMTTYPE=image/jpeg:https://vincentthiebaut.fr/wp-content/uploads/2021/05/Permanence-Bischwiller-1.jpg
END:VEVENT
BEGIN:VEVENT
DTSTART;TZID=Europe/Paris:20211008T090000
DTEND;TZID=Europe/Paris:20211008T100000
DTSTAMP:20260420T143639
CREATED:20210809T142444Z
LAST-MODIFIED:20210809T142444Z
UID:7937-1633683600-1633687200@vincentthiebaut.fr
SUMMARY:Permanence de BISCHWILLER
DESCRIPTION:Permanence à BISCHWILLER\nen présence de votre député ou de son équipe qui aura lieu à la Mairie de Bischwiller\n \nS’INSCRIRE À CETTE PERMANENCE×Formulaire d'inscription à la permanence \n\n\n\n\n\n\nTwitter\nPermanences de Vincent Thiébaut Député du bas-Rhin\nJe souhaite rencontrer le député ou son équipe\nVos coordonnées seront supprimées\, après avoir choisi la permanence de votre choix. \n\n\n	Prénom *\n	\n					\n\n\n	Nom de famille *\n	\n					\n\n\n	Adresse de messagerie *\n	\n					\n\n\n	Votre statut *\n	\n		\n		\n					\n						Citoyen					\n										\n						Entreprise					\n										\n						Artisan					\n										\n						Association					\n										\n						Élu					\n										\n						Autre					\n							\n		Merci de choisir dans le menu déroulant\n	\n\n\n	Numéro de téléphone\n	\n				numéro où vous joindre / non obligatoire\n	\n\n\n	Commune où a lieu la permanence *\n	\n				Merci de préciser\n	\n\n\n\n	date de la permanence *\n	\n		\n		Merci de préciser la date dans le calendrier\n	\n\n\nJe souhaite également m'inscire à la Newsletter du député *\n\n					\n				\n			OUI		\n					\n									\n				\n			NON		\n					\n				Merci de cocher la case et de lire les conditions ci dessous\n\n\nAUTORISATIONS\n \nle député Vincent THIÉBAUT utilisera les informations fournies sur ce formulaire pour vous contacter.  \nVous pouvez changer d'avis à tout moment en cliquant sur le lien Se désinscrire situé sur le pied de page de tout e-mail que vous recevez de notre part\, ou en nous contactant à contact@vincentthiebaut.fr. Nous traiterons vos informations avec respect. Pour plus d'informations sur nos pratiques de confidentialité\, veuillez visiter notre site Web. En cliquant sur "envoyer le message"\, vous acceptez que nous puissions traiter vos informations conformément à ces termes. \nNous utilisons MailJet comme plateforme de Newsletter. En cliquant ci-dessous pour vous abonner\, vous reconnaissez que vos informations seront transférées et traitées par MailJet. Pour en savoir plus sur les pratiques de confidentialité de MailJet\, rendez-vous ICI . \n\n\n	\n\n\n	\n\n\n\nFermer
URL:https://vincentthiebaut.fr/rencontres/permanence-de-bischwiller-2/
LOCATION:Mairie de BISCHWILLER\, 9 place de la Mairie\, Bischwiller\, 67046\, France
CATEGORIES:Permanence BISCHWILLER,Permanences 9eme Circonscription
ATTACH;FMTTYPE=image/jpeg:https://vincentthiebaut.fr/wp-content/uploads/2021/05/Permanence-Bischwiller-1.jpg
END:VEVENT
BEGIN:VEVENT
DTSTART;TZID=Europe/Paris:20210910T090000
DTEND;TZID=Europe/Paris:20210910T100000
DTSTAMP:20260420T143639
CREATED:20210809T142307Z
LAST-MODIFIED:20210809T142307Z
UID:7935-1631264400-1631268000@vincentthiebaut.fr
SUMMARY:Permanence de BISCHWILLER
DESCRIPTION:Permanence à BISCHWILLER\nen présence de votre député ou de son équipe qui aura lieu à la Mairie de Bischwiller\n \nS’INSCRIRE À CETTE PERMANENCE×Formulaire d'inscription à la permanence \n\n\n\n\n\n\nPhone\nPermanences de Vincent Thiébaut Député du bas-Rhin\nJe souhaite rencontrer le député ou son équipe\nVos coordonnées seront supprimées\, après avoir choisi la permanence de votre choix. \n\n\n	Prénom *\n	\n					\n\n\n	Nom de famille *\n	\n					\n\n\n	Adresse de messagerie *\n	\n					\n\n\n	Votre statut *\n	\n		\n		\n					\n						Citoyen					\n										\n						Entreprise					\n										\n						Artisan					\n										\n						Association					\n										\n						Élu					\n										\n						Autre					\n							\n		Merci de choisir dans le menu déroulant\n	\n\n\n	Numéro de téléphone\n	\n				numéro où vous joindre / non obligatoire\n	\n\n\n	Commune où a lieu la permanence *\n	\n				Merci de préciser\n	\n\n\n\n	date de la permanence *\n	\n		\n		Merci de préciser la date dans le calendrier\n	\n\n\nJe souhaite également m'inscire à la Newsletter du député *\n\n					\n				\n			OUI		\n					\n									\n				\n			NON		\n					\n				Merci de cocher la case et de lire les conditions ci dessous\n\n\nAUTORISATIONS\n \nle député Vincent THIÉBAUT utilisera les informations fournies sur ce formulaire pour vous contacter.  \nVous pouvez changer d'avis à tout moment en cliquant sur le lien Se désinscrire situé sur le pied de page de tout e-mail que vous recevez de notre part\, ou en nous contactant à contact@vincentthiebaut.fr. Nous traiterons vos informations avec respect. Pour plus d'informations sur nos pratiques de confidentialité\, veuillez visiter notre site Web. En cliquant sur "envoyer le message"\, vous acceptez que nous puissions traiter vos informations conformément à ces termes. \nNous utilisons MailJet comme plateforme de Newsletter. En cliquant ci-dessous pour vous abonner\, vous reconnaissez que vos informations seront transférées et traitées par MailJet. Pour en savoir plus sur les pratiques de confidentialité de MailJet\, rendez-vous ICI . \n\n\n	\n\n\n	\n\n\n\nFermer
URL:https://vincentthiebaut.fr/rencontres/permanence-de-bischwiller/
LOCATION:Mairie de BISCHWILLER\, 9 place de la Mairie\, Bischwiller\, 67046\, France
CATEGORIES:Permanence BISCHWILLER,Permanences 9eme Circonscription
ATTACH;FMTTYPE=image/jpeg:https://vincentthiebaut.fr/wp-content/uploads/2021/05/Permanence-Bischwiller-1.jpg
END:VEVENT
BEGIN:VEVENT
DTSTART;TZID=Europe/Paris:20210709T090000
DTEND;TZID=Europe/Paris:20210709T100000
DTSTAMP:20260420T143639
CREATED:20210519T150442Z
LAST-MODIFIED:20210519T150442Z
UID:7104-1625821200-1625824800@vincentthiebaut.fr
SUMMARY:Permanence à BISCHWILLER
DESCRIPTION:Permanence à BISCHWILLER\nen présence de votre député ou de son équipe qui aura lieu à la Mairie de Bischwiller\n \nS’INSCRIRE À CETTE PERMANENCE×Formulaire d'inscription à la permanence \n\n\n\n\n\n\nTwitter\nPermanences de Vincent Thiébaut Député du bas-Rhin\nJe souhaite rencontrer le député ou son équipe\nVos coordonnées seront supprimées\, après avoir choisi la permanence de votre choix. \n\n\n	Prénom *\n	\n					\n\n\n	Nom de famille *\n	\n					\n\n\n	Adresse de messagerie *\n	\n					\n\n\n	Votre statut *\n	\n		\n		\n					\n						Citoyen					\n										\n						Entreprise					\n										\n						Artisan					\n										\n						Association					\n										\n						Élu					\n										\n						Autre					\n							\n		Merci de choisir dans le menu déroulant\n	\n\n\n	Numéro de téléphone\n	\n				numéro où vous joindre / non obligatoire\n	\n\n\n	Commune où a lieu la permanence *\n	\n				Merci de préciser\n	\n\n\n\n	date de la permanence *\n	\n		\n		Merci de préciser la date dans le calendrier\n	\n\n\nJe souhaite également m'inscire à la Newsletter du député *\n\n					\n				\n			OUI		\n					\n									\n				\n			NON		\n					\n				Merci de cocher la case et de lire les conditions ci dessous\n\n\nAUTORISATIONS\n \nle député Vincent THIÉBAUT utilisera les informations fournies sur ce formulaire pour vous contacter.  \nVous pouvez changer d'avis à tout moment en cliquant sur le lien Se désinscrire situé sur le pied de page de tout e-mail que vous recevez de notre part\, ou en nous contactant à contact@vincentthiebaut.fr. Nous traiterons vos informations avec respect. Pour plus d'informations sur nos pratiques de confidentialité\, veuillez visiter notre site Web. En cliquant sur "envoyer le message"\, vous acceptez que nous puissions traiter vos informations conformément à ces termes. \nNous utilisons MailJet comme plateforme de Newsletter. En cliquant ci-dessous pour vous abonner\, vous reconnaissez que vos informations seront transférées et traitées par MailJet. Pour en savoir plus sur les pratiques de confidentialité de MailJet\, rendez-vous ICI . \n\n\n	\n\n\n	\n\n\n\nFermer
URL:https://vincentthiebaut.fr/rencontres/permanence-a-bischwiller-2/
LOCATION:Mairie de BISCHWILLER\, 9 place de la Mairie\, Bischwiller\, 67046\, France
CATEGORIES:Permanence BISCHWILLER,Permanences 9eme Circonscription
ATTACH;FMTTYPE=image/jpeg:https://vincentthiebaut.fr/wp-content/uploads/2021/05/Permanence-Bischwiller-1.jpg
END:VEVENT
BEGIN:VEVENT
DTSTART;TZID=Europe/Paris:20210521T090000
DTEND;TZID=Europe/Paris:20210521T100000
DTSTAMP:20260420T143639
CREATED:20210502T171758Z
LAST-MODIFIED:20210518T095218Z
UID:6618-1621587600-1621591200@vincentthiebaut.fr
SUMMARY:Permanence à BISCHWILLER
DESCRIPTION:Permanence à BISCHWILLER\nen présence de votre député ou de son équipe qui aura lieu à la Mairie de Bischwiller \nS’INSCRIRE À CETTE PERMANENCE×Formulaire d'inscription à la permanence \n\n\n\n\n\n\nTwitter\nPermanences de Vincent Thiébaut Député du bas-Rhin\nJe souhaite rencontrer le député ou son équipe\nVos coordonnées seront supprimées\, après avoir choisi la permanence de votre choix. \n\n\n	Prénom *\n	\n					\n\n\n	Nom de famille *\n	\n					\n\n\n	Adresse de messagerie *\n	\n					\n\n\n	Votre statut *\n	\n		\n		\n					\n						Citoyen					\n										\n						Entreprise					\n										\n						Artisan					\n										\n						Association					\n										\n						Élu					\n										\n						Autre					\n							\n		Merci de choisir dans le menu déroulant\n	\n\n\n	Numéro de téléphone\n	\n				numéro où vous joindre / non obligatoire\n	\n\n\n	Commune où a lieu la permanence *\n	\n				Merci de préciser\n	\n\n\n\n	date de la permanence *\n	\n		\n		Merci de préciser la date dans le calendrier\n	\n\n\nJe souhaite également m'inscire à la Newsletter du député *\n\n					\n				\n			OUI		\n					\n									\n				\n			NON		\n					\n				Merci de cocher la case et de lire les conditions ci dessous\n\n\nAUTORISATIONS\n \nle député Vincent THIÉBAUT utilisera les informations fournies sur ce formulaire pour vous contacter.  \nVous pouvez changer d'avis à tout moment en cliquant sur le lien Se désinscrire situé sur le pied de page de tout e-mail que vous recevez de notre part\, ou en nous contactant à contact@vincentthiebaut.fr. Nous traiterons vos informations avec respect. Pour plus d'informations sur nos pratiques de confidentialité\, veuillez visiter notre site Web. En cliquant sur "envoyer le message"\, vous acceptez que nous puissions traiter vos informations conformément à ces termes. \nNous utilisons MailJet comme plateforme de Newsletter. En cliquant ci-dessous pour vous abonner\, vous reconnaissez que vos informations seront transférées et traitées par MailJet. Pour en savoir plus sur les pratiques de confidentialité de MailJet\, rendez-vous ICI . \n\n\n	\n\n\n	\n\n\n\nFermer
URL:https://vincentthiebaut.fr/rencontres/permanence-a-bischwiller/
LOCATION:Mairie de BISCHWILLER\, 9 place de la Mairie\, Bischwiller\, 67046\, France
CATEGORIES:Permanence BISCHWILLER,Permanences 9eme Circonscription
ATTACH;FMTTYPE=image/jpeg:https://vincentthiebaut.fr/wp-content/uploads/2021/05/Permanence-Bischwiller-1.jpg
END:VEVENT
END:VCALENDAR